BEGIN:VCALENDAR
VERSION:2.0
METHOD:PUBLISH
BEGIN:VEVENT
UID:WILD_APRICOT_EVENT_3155703_SESSION_1
DTSTART:20181215T070000Z
DTEND:20181215T125900Z
SUMMARY:Christmas Party 2018
LOCATION:BBSC Clubhouse - Hanging Rock Road
DESCRIPTION:http://bbsc.org.au/event-3155703\n\n It’s that time of the year again!\n  2018 Club Christmas Party\n  Venue:  The Clubhouse\, Hanging Rock\n Time/date:  6.00pm on Saturday 15 December 2018\n Tickets: $20 per person\n Beer and soft drinks will be available.  BYO wine.\n\n  To help with catering\, please register and pay online prior to 14th please!!\n\n
DTSTAMP:20190301T062125Z
END:VEVENT
END:VCALENDAR
