BEGIN:VCALENDAR
VERSION:2.0
METHOD:PUBLISH
BEGIN:VEVENT
UID:WILD_APRICOT_EVENT_3045637_SESSION_1
DTSTART:20181013T073000Z
DTEND:20181013T120000Z
SUMMARY:2018 Commodore's Dinner
LOCATION:On The Pier Restaurant
DESCRIPTION:http://bbsc.org.au/event-3045637\n\n6:30 for 7:0 pm\n  On The Pier Restaurant - Old Punt Road off Kings Highway\n   Our guest speaker will be circumnavigator and cruising author Jackie Parry.\n\n  Jackie will be talking about the highlights of her voyages with husband Noel Parry and also giving some practical tips to make cruising safer and hassle free.\n  The cost will be $50 which will include mains\, desserts and tea/coffee plus a small contribution towards our speaker’s travel costs.\n\n  We will need registrations by 5pm on Thursday October 11th so that we can give accurate numbers for catering. If anyone attends the dinner without registering we will be asking them to pay $50 on the night.\n\n  We would prefer everyone to register and pay in advance using the Paypal facility.\n
DTSTAMP:20190301T062136Z
END:VEVENT
END:VCALENDAR
