BEGIN:VCALENDAR
VERSION:2.0
METHOD:PUBLISH
BEGIN:VEVENT
UID:WILD_APRICOT_EVENT_2902599_SESSION_1
DTSTART:20180623T083000Z
DTEND:20180623T123000Z
SUMMARY:2018 BBSC Presentation Night
LOCATION:Catalina Club
DESCRIPTION:http://bbsc.org.au/event-2902599\n\nBBSC Presentation Night  Catalina Country Club on Saturday June 23rd 6:30 for 7:00pm. The tickets are be $40pp which includes a three course buffet\, tea/coffee.\n\n
DTSTAMP:20190301T062148Z
END:VEVENT
END:VCALENDAR
