BEGIN:VCALENDAR
VERSION:2.0
METHOD:PUBLISH
BEGIN:VEVENT
UID:WILD_APRICOT_EVENT_2817895_SESSION_1
DTSTART:20180427T140000Z
DTEND:20180429T140000Z
SUMMARY:2018 Beyond Bank Batemans Bay Regatta
LOCATION:BBSC Clubhouse\, Hanging Rock Road\, Batemans Bay
DESCRIPTION:http://bbsc.org.au/event-2817895\n\n<!-- \n\n    -->  \n\n  Batemans Bay Regatta\n  April 28th and 29th 2018\n  Batemans Bay Sailing Club invites you and your crew to the Batemans Bay Regatta to be held at Batemans Bay on April 28th and 29th 2018.\n  ONLINE REGISTRATION IS NOW CLOSED HOWEVER PLEASE REGISTER AT THE HANGING ROCK CLUBHOUSE ON SATURDAY MORNING. THANKYOU.\n\n  Download the NOTICE OF RACE\nDownload the SAILING INSTRUCTIONS\n
DTSTAMP:20190301T062234Z
END:VEVENT
END:VCALENDAR
