BEGIN:VCALENDAR
VERSION:2.0
METHOD:PUBLISH
BEGIN:VEVENT
UID:WILD_APRICOT_EVENT_2720456_SESSION_1
DTSTART:20171223T070000Z
DTEND:20171223T125900Z
SUMMARY:Christmas Party 2017
LOCATION:BBSC Clubhouse - Hanging Rock Road
DESCRIPTION:http://bbsc.org.au/event-2720456\n\n It’s that time of the year again!\n\n  We will be having a free Christmas BBQ at the clubhouse from 6pm on December 23rd. Richard & Bev Dunne will be doing the BBQ. Everyone is welcome to bring along a salad or a dessert. We will have some beer\, wine and soft drinks for sale or you can bring your own.\n  To help with catering\, please register!!\n\n
DTSTAMP:20190301T062246Z
END:VEVENT
END:VCALENDAR
