BEGIN:VCALENDAR
VERSION:2.0
METHOD:PUBLISH
BEGIN:VEVENT
UID:WILD_APRICOT_EVENT_2620760_SESSION_1
DTSTART:20171028T073000Z
DTEND:20171028T120000Z
SUMMARY:2017 Commodore's Dinner
LOCATION:On The Pier Restaurant
DESCRIPTION:http://bbsc.org.au/event-2620760\n\n6:30 for 7:0 pm\n  Cost is $40 per person payable to the restaurant on the night.\n  On The Pier Restaurant - Old Punt Road off Kings Highway\n  Robin Smart sailed his Malcolm Tennant designed catamaran from Auckland to Batemans Bay earlier this year\, but not without several trials and tribulations along the way. He will be talking on “Six Times Across The Tasman” at the Commodore’s Dinner. This will be at On The Pier Restaurant 6.30 for 7pm. As on previous occasions the restaurant will be putting on a main course and dessert plus tea/coffee for $40 per person which is excellent value for this venue. It will be essential to register for this event through the BBSC event by Thursday October 26th so we can provide accurate numbers for catering. Places are limited. Please indicate any special dietary requirements.\n
DTSTAMP:20190301T062258Z
END:VEVENT
END:VCALENDAR
