BEGIN:VCALENDAR
VERSION:2.0
METHOD:PUBLISH
BEGIN:VEVENT
UID:WILD_APRICOT_EVENT_2524775_SESSION_1
DTSTART:20170617T090000Z
DTEND:20170617T135900Z
SUMMARY:BBSC Presentation Night
LOCATION:Catalina Club
DESCRIPTION:http://bbsc.org.au/event-2524775\n\nBBSC Presentation Night  Catalina Country Club on Saturday June 17th from 7pm. The tickets are be $40pp which includes a three course buffet\, tea/coffee.\n\n\n
DTSTAMP:20190301T062344Z
END:VEVENT
END:VCALENDAR
