BEGIN:VCALENDAR
VERSION:2.0
METHOD:PUBLISH
BEGIN:VEVENT
UID:WILD_APRICOT_EVENT_2481643_SESSION_1
DTSTART:20170421T140000Z
DTEND:20170423T140000Z
SUMMARY:2017 Beyond Bank Batemans Bay Regatta
LOCATION:BBSC Clubhouse\, Hanging Rock Road\, Batemans Bay
DESCRIPTION:http://bbsc.org.au/event-2481643\n\n\n\n  Batemans Bay Regatta\n  April 22nd and 23rd 2017 \n  Batemans Bay Sailing Club invites you and your crew to the Beyond Bank Batemans Bay Regatta to be held at Batemans Bay on April 22nd and 23rd 2017.\n  Download the NOTICE OF RACE\n  Download the SAILING INSTRUCTIONS\n\n  \nONLINE REGISTRATION IS NOW CLOSED - HOWEVER COME SEE US AT THE CLUBHOUSE ON SATURDAY MORNING AND WE'LL GET YOU ENTERED THEN!\n\n
DTSTAMP:20190301T062407Z
END:VEVENT
END:VCALENDAR
