BEGIN:VCALENDAR
VERSION:2.0
METHOD:PUBLISH
BEGIN:VEVENT
UID:WILD_APRICOT_EVENT_2399301_SESSION_1
DTSTART:20161217T070000Z
DTEND:20161217T125900Z
SUMMARY:Christmas Party
LOCATION:BBSC Clubhouse - Hanging Rock Road
DESCRIPTION:http://bbsc.org.au/event-2399301\n\n It’s that time of the year again!\n\n  We will be having a free Christmas BBQ at the clubhouse from 6pm on December 17th. Richard Dunne will be doing the BBQ. Everyone is welcome to bring along a salad or a dessert. We will have some beer\, wine and soft drinks for sale or you can bring your own.\n\n
DTSTAMP:20190301T062509Z
END:VEVENT
END:VCALENDAR
