BEGIN:VCALENDAR
VERSION:2.0
METHOD:PUBLISH
BEGIN:VEVENT
UID:WILD_APRICOT_EVENT_2342201_SESSION_1
DTSTART:20160924T030000Z
DTEND:20160924T070000Z
SUMMARY:Practice Race
LOCATION:Batemans Bay
DESCRIPTION:http://bbsc.org.au/event-2342201\n\nBy popular demand there will be a practice race/sail this Saturday (24th September). Terry Paton and Simon Lowth have worked out the final handicaps for the winter series and translated them into start times which are as follows.\n  \n Hotspur                                                1300\n Sandia                                                   1300\n Xanthia                                                 1300\n The Saint                                             1301\n North Star                                           1306\n Periwinkle                                           1309\n The Shed                                             1311\n Silkworm                                             1322\n Wishful Thinking                               1323.30\n Accolade                                              1325\n Avior                                                     1328\n Attitude                                               1335\n Outwide                                              1335\n Apostrophe                                        1338\n Houdini                                                1346.30\n  \n This will be over the usual winter series course (Winter Series Course A in the Sailing Instructions). High tide is at 1445 (1.57) with the next low tide at 2135 (0.44). The time limit will be 1700.\n  \n\n
DTSTAMP:20190301T062630Z
END:VEVENT
END:VCALENDAR
