BEGIN:VCALENDAR
VERSION:2.0
METHOD:PUBLISH
BEGIN:VEVENT
UID:WILD_APRICOT_EVENT_2302059_SESSION_1
DTSTART:20170617T140000Z
DTEND:20170618T140000Z
SUMMARY:Winter Solstice Raft-Up
LOCATION:Big Island on the Clyde River
DESCRIPTION:http://bbsc.org.au/event-2302059\n\nThis popular mid-winter event is a great time to get partners who don't normally race\, out on the water for a friendly raft-up and long lunch.\n
DTSTAMP:20190301T062319Z
END:VEVENT
END:VCALENDAR
