BEGIN:VCALENDAR
VERSION:2.0
METHOD:PUBLISH
BEGIN:VEVENT
UID:WILD_APRICOT_EVENT_2302057_SESSION_1
DTSTART:20170505T140000Z
DTEND:20170507T140000Z
SUMMARY:Overnight in the Clyde
LOCATION:Clyde River
DESCRIPTION:http://bbsc.org.au/event-2302057\n\nLow tide is in the morning so it's an ideal time to get under the bridge and the overhead power lines up the river. We'll get away about 0900 and motor up the river towards Nelligen. There's a couple of very nice anchorages off sandy beaches just before getting to Nelligen where we can anchor for the night.\n  If you follow the channel markers and stick close to the oyster leases on the port side of the river when passing under the power cables\, there's plenty of depth and air clearance for the power cables for the bigger boats.\n
DTSTAMP:20190301T062355Z
END:VEVENT
END:VCALENDAR
