BEGIN:VCALENDAR
VERSION:2.0
METHOD:PUBLISH
BEGIN:VEVENT
UID:WILD_APRICOT_EVENT_2302051_SESSION_1
DTSTART:20170413T140000Z
DTEND:20170417T140000Z
SUMMARY:Jervis Bay Cruise
LOCATION:Jervis Bay
DESCRIPTION:http://bbsc.org.au/event-2302051\n\nThis Easter event allows those who would like to sail up the coast to JB to do so\, or if you choose to tow your boat up and launch from Callala Bay\, this is another option.\n  We'll spend Easter on Jervis Bay\, anchoring alternatively in the pristine waters of Montague Roads or picking up a mooring at Hole in the Wall depending on conditions.\n  This is not a racing event. If you are sailing up and back\, please be aware that Category 4 or equivalent is required.\n
DTSTAMP:20190301T062443Z
END:VEVENT
END:VCALENDAR
