BEGIN:VCALENDAR
VERSION:2.0
METHOD:PUBLISH
BEGIN:VEVENT
UID:WILD_APRICOT_EVENT_2302045_SESSION_1
DTSTART:20161203T230000Z
DTEND:20161204T050000Z
SUMMARY:Canoe Safari up Cullendulla Creek
LOCATION:Cullendulla Creek\, west of Square Head
DESCRIPTION:http://bbsc.org.au/event-2302045\n\nCross the bar mid morning.Depending on numbers\, we’ll pick up the club mooring at Square Head\, then head out on canoes or dinghies up the creek with cameras and insect spray in hand. Beg\, borrow or steal a canoe for the occasion.\n  Return mid afternoon.\n
DTSTAMP:20190301T062520Z
END:VEVENT
END:VCALENDAR
