BEGIN:VCALENDAR
VERSION:2.0
METHOD:PUBLISH
BEGIN:VEVENT
UID:WILD_APRICOT_EVENT_2302043_SESSION_1
DTSTART:20161118T130000Z
DTEND:20161120T130000Z
SUMMARY:Night Sail and Raft-Up
LOCATION:Square Head
DESCRIPTION:http://bbsc.org.au/event-2302043\n\nPlan to head out across the bar at 1600\, and depending on wind direction\, we'll have a leisurely sail out around The Tollgates and plan to get back to Square Head for sundowners around 1800-1830. Depending on numbers of boats and weather conditions we will pick up one the club moorings and rat up for the night. Otherwise\, we will anchor.\n  We can return across the bar early afternoon on Sunday with the tide.\n
DTSTAMP:20190301T062532Z
END:VEVENT
END:VCALENDAR
