BEGIN:VCALENDAR
VERSION:2.0
METHOD:PUBLISH
BEGIN:VEVENT
UID:WILD_APRICOT_EVENT_2302025_SESSION_1
DTSTART:20160917T023000Z
DTEND:20160917T060000Z
SUMMARY:Safety Day at the Clubhouse
LOCATION:Clubhouse at Hanging Rock
DESCRIPTION:http://bbsc.org.au/event-2302025\n\n12.30 to 1pm – Dave Magill presentation on Cat 7 and Cat 4 audits and any changes in the new blue book\n  1pm to 2pm – BBQ: Snags and Salad Free. Drinks at cost or BYO\n  2pm to 3pm – Richard Hanly (RMS) presentation on safety equipment\, lifejacket use and maintenance and new marine safety regulations\n  3pm to 4pm – Rob Currall’s tips on diesel maintenance and troubleshooting.\n  \n\n
DTSTAMP:20190301T062642Z
END:VEVENT
END:VCALENDAR
