BEGIN:VCALENDAR
VERSION:2.0
METHOD:PUBLISH
BEGIN:VEVENT
UID:WILD_APRICOT_EVENT_2290265_SESSION_1
DTSTART:20161105T070000Z
DTEND:20161105T120000Z
SUMMARY:Commodore's Dinner
LOCATION:On The Pier Restaurant
DESCRIPTION:http://bbsc.org.au/event-2290265\n\n6 for 6:30 pm\n  Cost is $40 per person payable to the restaurant on the night.\n  On The Pier Restaurant\n  Old Punt Road off Kings Highway\n  \nSeamanship for short-handed cruising - Harry Watson Smith\n     Take the drama out of the dream\n   \n   Over the past ten years Harry has sailed 45\,000 nm across the major oceans of the world.  He will\, through stories\, pictures and anecdotes\, share his tips\, tactics and tricks of how he prepared for these passages and made his boat a cruising home.  This talk is not only for blue-water sailors\, but also for their partners who will share the dream.   \n\n\n
DTSTAMP:20190301T062542Z
END:VEVENT
END:VCALENDAR
