BEGIN:VCALENDAR
VERSION:2.0
METHOD:PUBLISH
BEGIN:VEVENT
UID:WILD_APRICOT_EVENT_2290264_SESSION_1
DTSTART:20161008T010000Z
DTEND:20161008T010000Z
SUMMARY:Bay Cup 1
LOCATION:Batemans Bay
DESCRIPTION:http://bbsc.org.au/event-2290264\n\nAs per handbook\n\n
DTSTAMP:20190301T062554Z
END:VEVENT
END:VCALENDAR
