BEGIN:VCALENDAR
VERSION:2.0
METHOD:PUBLISH
BEGIN:VEVENT
UID:WILD_APRICOT_EVENT_2290259_SESSION_1
DTSTART:20160904T020000Z
DTEND:20160904T080000Z
SUMMARY:Father's Day Picnic at Nelligen
LOCATION:In the park beside the river at Nelligen
DESCRIPTION:http://bbsc.org.au/event-2290259\n\nThis is a family day for all members and their friends. Come along for a bar-b-que and fun and games on the lawn beside the river.\n  In past years we've gone up the river by boat\, but as the bridge may not be repaired in time\, this year we will make our way to Nelligen by car\, planning to arrive by 1200.\n\n  So that we have an idea of numbers\, please register if you are joining us.\n
DTSTAMP:20190301T062653Z
END:VEVENT
END:VCALENDAR
